BEGIN:VCALENDAR
VERSION:2.0
PRODID:-//IP.Board Calendar 4.3.6//EN
METHOD:PUBLISH
CALSCALE:GREGORIAN
BEGIN:VTIMEZONE
TZID:Europe/London
TZURL:http://tzurl.org/zoneinfo/Europe/London
X-LIC-LOCATION:Europe/London
BEGIN:DAYLIGHT
TZOFFSETFROM:+0000
TZOFFSETTO:+0100
TZNAME:BST
DTSTART:20160327T020000Z
RRULE:FREQ=YEARLY;BYMONTH=3;BYDAY=-1SU
END:DAYLIGHT
BEGIN:STANDARD
TZOFFSETFROM:+0100
TZOFFSETTO:+0000
TZNAME:GMT
DTSTART:20161030T020000Z
RRULE:FREQ=YEARLY;BYMONTH=10;BYDAY=-1SU
END:STANDARD
END:VTIMEZONE
BEGIN:VTIMEZONE
TZID:Europe/London
TZURL:http://tzurl.org/zoneinfo/Europe/London
X-LIC-LOCATION:Europe/London
BEGIN:DAYLIGHT
TZOFFSETFROM:+0000
TZOFFSETTO:+0100
TZNAME:BST
DTSTART:20150329T020000Z
RRULE:FREQ=YEARLY;BYMONTH=3;BYDAY=-1SU
END:DAYLIGHT
BEGIN:STANDARD
TZOFFSETFROM:+0100
TZOFFSETTO:+0000
TZNAME:GMT
DTSTART:20151025T020000Z
RRULE:FREQ=YEARLY;BYMONTH=10;BYDAY=-1SU
END:STANDARD
END:VTIMEZONE
BEGIN:VTIMEZONE
TZID:Europe/London
TZURL:http://tzurl.org/zoneinfo/Europe/London
X-LIC-LOCATION:Europe/London
BEGIN:DAYLIGHT
TZOFFSETFROM:+0000
TZOFFSETTO:+0100
TZNAME:BST
DTSTART:20110327T020000Z
RRULE:FREQ=YEARLY;BYMONTH=3;BYDAY=-1SU
END:DAYLIGHT
BEGIN:STANDARD
TZOFFSETFROM:+0100
TZOFFSETTO:+0000
TZNAME:GMT
DTSTART:20111030T020000Z
RRULE:FREQ=YEARLY;BYMONTH=10;BYDAY=-1SU
END:STANDARD
END:VTIMEZONE
BEGIN:VEVENT
SUMMARY:Indie in a Week 4: Game Making Period
DTSTAMP:20160523T140150Z
SEQUENCE:1
UID:21-1-7c5d6bdf5ff7590833fefcad7a6241a6@www.rpgmakercentral.com
ORGANIZER;CN="Rikifive":noreply@rpgmakercentral.com
DESCRIPTION:\n\n\n\n\n \n\nThe time\, where contestants will show their
	 skills and get to the challenge of making a game in just a week has ended
	!\n\n\n \n\nThe Game Making Period started on Tuesday\, 24th May at 6:00 
	PM (GMT)\n\n\n\nand ended on Tuesday\, 31st May at 6:00 PM (GMT)\n\n\n \n
	\nWere you able to make a game in just a week?\n\n\n \n\nThe theme this t
	ime was: Revelation.\n\n\n \n\n\n\n\n\n&lt\;&lt\;&lt\; For more informati
	on\, please visit Indie in a Week 4 thread. &gt\;&gt\;&gt\;\n\n\n\n( i ) n
	ote: The time seen above (on blue background) is automatically converted t
	o your timezone.\n\n\n\n\n\n\n\n\n\n\n\n\n
DTSTART:20160524T180000Z
DTEND:20160531T180000Z
END:VEVENT
BEGIN:VEVENT
SUMMARY:Golden Week
DTSTAMP:20160429T160519Z
SEQUENCE:1
UID:20-1-7c5d6bdf5ff7590833fefcad7a6241a6@www.rpgmakercentral.com
ORGANIZER;CN="Rikifive":noreply@rpgmakercentral.com
DESCRIPTION:\n\nCOMIC SANSâ„¢NEWSÂ®\n\n\n\n-----------------------
	-------------\n\n\n\n\"NEWS FROM RMW IN COMIC SANS FONT\"\n\n\n\n\n\n\nIt'
	s Golden Week in Japan\, and RPG Maker is thrilled to join in on the celeb
	ration. And RMWeb is starting things off with a sale!\n \nUse the code: g
	oldenmv16 for 35% off RPG Maker MV!\n \nUse the code: goldenrm16 for 70% 
	off RPG Maker VX-Ace\, RPG Maker XP\, RPG Maker VX\, RPG Maker 2003 and IG
	 Maker\n \nOr stock up on some great RPG Maker DLC at 50% discount with t
	he code: goldenweek16 .\n \n \n \n\n\n\n&gt\; View more details &lt\;\n
	\n\n\n
DTSTART;VALUE=DATE:20160429
DTEND;VALUE=DATE:20160505
END:VEVENT
BEGIN:VEVENT
SUMMARY:Kaz's Birthday
DTSTAMP:20160421T194618Z
SEQUENCE:0
UID:19-1-7c5d6bdf5ff7590833fefcad7a6241a6@www.rpgmakercentral.com
ORGANIZER;CN="kaz":noreply@rpgmakercentral.com
DESCRIPTION:
DTSTART;VALUE=DATE:20160421
END:VEVENT
BEGIN:VEVENT
SUMMARY:Indie in a Week 3 - Game Making period!
DTSTAMP:20160301T172334Z
SEQUENCE:1
UID:18-1-7c5d6bdf5ff7590833fefcad7a6241a6@www.rpgmakercentral.com
ORGANIZER;CN="Seriel":noreply@rpgmakercentral.com
DESCRIPTION:\n\n\n\n\n\nCredit to Eien Nanashi for the logo.\n\n\n \nHi
	!\n \nThe time is here... when 21 contestants will create games all week\
	, hoping to become the grand winner. Or something like that \n \nDuring t
	his period\, you can make your game for Indie in a Week 3\, make sure to s
	ubmit it before the week is over! See the blue bar at the top for times in
	 your time zone. \nWhen this time starts\, the theme will be announced.\n
	 \nTimer:\n\n \nTheme: Silence\n \nSee the rest of the details here -&g
	t\; http://www.rpgmakervxace.net/topic/37418-indie-in-a-week-3/\n \nGood 
	luck to you all!\n
DTSTART:20160301T180000Z
DTEND:20160308T175900Z
END:VEVENT
BEGIN:VEVENT
SUMMARY:Birthday Sale!
DTSTAMP:20160222T191346Z
SEQUENCE:1
UID:17-1-7c5d6bdf5ff7590833fefcad7a6241a6@www.rpgmakercentral.com
ORGANIZER;CN="Rikifive":noreply@rpgmakercentral.com
DESCRIPTION:\n\n\n\n\n \n \n \nThis week only\, enjoy major discounts
	 on most of the products available in the RMWeb Main Store!\n \nFor resou
	rce packs: 65% off!**\nUse coupon code: happy\n**excludes RPG Maker MV Ess
	entials\, RPG Maker MV Cover Pack\, as well as all newly-released products
	 announced here and here.\n \nFor makers: 80% off!**\nUse coupon code: bi
	rthday\n**excludes RPG Maker MV\n \nDiscounts are valid until Tuesday\, M
	arch 1st!\n
DTSTART;VALUE=DATE:20160222
DTEND;VALUE=DATE:20160301
END:VEVENT
BEGIN:VEVENT
SUMMARY:Indie in a Week 3 - Information and Sign-Ups
DTSTAMP:20160220T161351Z
SEQUENCE:1
UID:16-1-7c5d6bdf5ff7590833fefcad7a6241a6@www.rpgmakercentral.com
ORGANIZER;CN="Seriel":noreply@rpgmakercentral.com
DESCRIPTION:\n\n\n\n\n\n\n\n\nDuring this time\, information on the even
	t will be published and anyone can sign up for the contest.\n\n\n \n\n\nP
	lease check the blue bar at the top for times in your time zone \n\n\n\n\n
	 \n \n\nWhat it shows for me:\n\n\n \n \n\n\n\n\n\n\n\n\n\n\n
DTSTART:20160223T180000Z
DTEND:20160301T175900Z
END:VEVENT
BEGIN:VEVENT
SUMMARY:Community Awards 2015 - Results
DTSTAMP:20160130T030522Z
SEQUENCE:1
UID:15-1-7c5d6bdf5ff7590833fefcad7a6241a6@www.rpgmakercentral.com
ORGANIZER;CN="Rikifive":noreply@rpgmakercentral.com
DESCRIPTION:\n\n\n\n\n\n\n\n \n\nHello everybody!\n\n\n\nThe votes have
	 been counted and the results will be posted soon.\n\n\n \n\nVotes will b
	e posted on 30th January 2016 around 3PM (GMT) (+/- ~2 hours)\n\n\n \n\nF
	AQ\n\n\n\nQ: When are the winners of the annual forum awards going to be a
	nnounced?\n\n\n\nA: Now you know. ( Í¡Â° ÍœÊ– Í¡Â°)\n\n\n \n
	\nQ: Was that cancelled due to the extremely high number of sensitive sall
	ies who get offended at EVERYTHING and have no spines?\n\n\n\nA: Apparentl
	y not. ( Í¡Â° ÍœÊ– Í¡Â°)\n\n\n \n\nQ: What if there was a ti
	e in one category?\n\n\n\nA: All members with the highest number of votes 
	in that category will get an award.\n\n\n \n\nQ: Who will get an award fo
	r games voted in 'Project Awards'?\n\n\n\n\nA: The author of the thread of
	 that game. (If there were more main developers of that project - \nlet me
	 know before end of this month)\n\n\n\n \n\n\nFor more information view t
	his \nCalendar Event or visit this thread.\n\n\n\n\nRESULTS ARE POSTED!\n\
	n\n
DTSTART;VALUE=DATE:20160130
END:VEVENT
BEGIN:VEVENT
SUMMARY:Community Awards 2015
DTSTAMP:20151231T180340Z
SEQUENCE:1
UID:14-1-7c5d6bdf5ff7590833fefcad7a6241a6@www.rpgmakercentral.com
ORGANIZER;CN="Rikifive":noreply@rpgmakercentral.com
DESCRIPTION:\n\n\n\n\n \n\n\n\n\n\nRPG Maker VX Ace Community: Communit
	y Awards 2015 is an event\,\n\n\n\nwhere you will get the chance to show y
	our appreciation to other members of the forum.\n\n\n\nYou can nominate me
	mbers\, who you believe were a big support to this community.\n\n\n \n\n\
	n\n\n\nThere is a list of categories\, where you're able to nominate membe
	rs and vote.\n\n\n\nYou can vote on one member in each category. You canno
	t vote on yourself.\n\n\n \n\nThe members with the highest number of vote
	s from each category will receive a forum badge.\n\n\n \n\nEvent will sta
	rt on ~2nd January 2016.\n\n\n\nThe voting part will last 2 weeks + extra 
	week and will end on ~23th January 2016.\n\n\n\nAfter the voting part\, th
	e votes will be counted as soon as possible. (within a week or two)\n\n\n
	 \n\nNEWS: An extra week has been added in order to get more votes.\n\n\n
	\nGO TO THREAD\n\n\n\n\n \nVoting Period has ended.\n\n\n\n\nVotes have b
	een counted.\n\n\n\nResults will be announced soon.\n\n\n\n\n\nClick here 
	to view more information about announcing results\n\n\n\n
DTSTART;VALUE=DATE:20160102
DTEND;VALUE=DATE:20160123
END:VEVENT
BEGIN:VEVENT
SUMMARY:SALE on RMWeb Store
DTSTAMP:20151219T194242Z
SEQUENCE:1
UID:13-1-7c5d6bdf5ff7590833fefcad7a6241a6@www.rpgmakercentral.com
ORGANIZER;CN="Rikifive":noreply@rpgmakercentral.com
DESCRIPTION:\n\n\nSALE!\non RPG Maker Web store\n\n\n\n \n \n\nRPG Mak
	er Web store is holding a mega sale!\n\n\n \n \n\nFor all RPG Makers/sof
	tware\, excluding RPG Maker MV : 80% off!\n\n\n\nEnter code: hohoho\n\n\n
	 \n \n\nFor all DLC\, excluding Cover Art DLC and Essentials DLC: 85% of
	f!\n\n\n\nEnter code: santahelper\n\n\n \n \n\nSale ends on Monday\, Dec
	ember 21st\, 11:59 PM EST (full day on Monday)\n\n\n\n( i ) note: The time
	 seen above (\"Taking place\" on blue background) is automatically convert
	ed to your timezone.\n\n\n \n \n\n\n\nRPG MAKER WEB STORE\n\n\n\n
DTSTART:20151218T160000Z
DTEND:20151222T045900Z
END:VEVENT
BEGIN:VEVENT
SUMMARY:Indie in a Week 2! Game Making Period
DTSTAMP:20151121T230236Z
SEQUENCE:1
UID:9-1-7c5d6bdf5ff7590833fefcad7a6241a6@www.rpgmakercentral.com
ORGANIZER;CN="Rikifive":noreply@rpgmakercentral.com
DESCRIPTION:\nThe official Game Making Period of 'Indie in a Week 2!' co
	ntest.\n \nStart: 1st day of December at 6PM GMT\nEnd: 8th day of Decembe
	r at 6PM GMT\n\n \n( i ) note: The time seen above (on blue background) i
	s automatically converted to your timezone.\n \n\n\n\n \n\n \n\n\n \nF
	or more information visit: 'Indie in a Week 2!' thread.\n
DTSTART:20151201T180000Z
DTEND:20151208T180000Z
END:VEVENT
BEGIN:VEVENT
SUMMARY:RPG Maker VX Ace Release Date (Japan)
DTSTAMP:20111114T013431Z
SEQUENCE:0
UID:1-1-7c5d6bdf5ff7590833fefcad7a6241a6@www.rpgmakercentral.com
ORGANIZER;CN="Esrever":noreply@rpgmakercentral.com
DESCRIPTION:RPG Maker VX Ace will be released on December 15th in Japan.
DTSTART;VALUE=DATE:20111215
END:VEVENT
END:VCALENDAR
